BEGIN:VCALENDAR
VERSION:2.0
PRODID:-//Castellers de Sant Cugat - ECPv6.15.11//NONSGML v1.0//EN
CALSCALE:GREGORIAN
METHOD:PUBLISH
X-ORIGINAL-URL:https://www.castellersdesantcugat.cat
X-WR-CALDESC:Esdeveniments per Castellers de Sant Cugat
REFRESH-INTERVAL;VALUE=DURATION:PT1H
X-Robots-Tag:noindex
X-PUBLISHED-TTL:PT1H
BEGIN:VTIMEZONE
TZID:Europe/Madrid
BEGIN:DAYLIGHT
TZOFFSETFROM:+0100
TZOFFSETTO:+0200
TZNAME:CEST
DTSTART:20210328T010000
END:DAYLIGHT
BEGIN:STANDARD
TZOFFSETFROM:+0200
TZOFFSETTO:+0100
TZNAME:CET
DTSTART:20211031T010000
END:STANDARD
BEGIN:DAYLIGHT
TZOFFSETFROM:+0100
TZOFFSETTO:+0200
TZNAME:CEST
DTSTART:20220327T010000
END:DAYLIGHT
BEGIN:STANDARD
TZOFFSETFROM:+0200
TZOFFSETTO:+0100
TZNAME:CET
DTSTART:20221030T010000
END:STANDARD
BEGIN:DAYLIGHT
TZOFFSETFROM:+0100
TZOFFSETTO:+0200
TZNAME:CEST
DTSTART:20230326T010000
END:DAYLIGHT
BEGIN:STANDARD
TZOFFSETFROM:+0200
TZOFFSETTO:+0100
TZNAME:CET
DTSTART:20231029T010000
END:STANDARD
END:VTIMEZONE
BEGIN:VEVENT
DTSTART;TZID=Europe/Madrid:20221120T120000
DTEND;TZID=Europe/Madrid:20221120T140000
DTSTAMP:20260421T115015
CREATED:20220902T095835Z
LAST-MODIFIED:20220902T095835Z
UID:39640-1668945600-1668952800@www.castellersdesantcugat.cat
SUMMARY:Diada dels Minyons de Terrassa
DESCRIPTION:Diada dels Minyons de Terrassa\, considerada l’última gran diada castellera de la temporada\, motiu pel qual serà retransmesa en directe per la Xarxa de Televisions Locals i per xala.cat. \n11 h: sortida des de l’estació d’FGC de Sant Cugat \n12 h: diada castellera a la Plaça Vella de Terrassa amb els Castellers de Sants i els Minyons de Terrassa.
URL:https://www.castellersdesantcugat.cat/event/diada-dels-minyons-de-terrassa-2022/
LOCATION:Plaça Vella\, Plaça Vella\, Terrassa\, Espanya
CATEGORIES:Actuacions
END:VEVENT
BEGIN:VEVENT
DTSTART;TZID=Europe/Madrid:20221113T120000
DTEND;TZID=Europe/Madrid:20221113T180000
DTSTAMP:20260421T115015
CREATED:20220902T095436Z
LAST-MODIFIED:20221108T083947Z
UID:39637-1668340800-1668362400@www.castellersdesantcugat.cat
SUMMARY:Diada de la colla
DESCRIPTION:Diada dels Castellers de Sant Cugat\, última diada castellera de la temporada a Sant Cugat. \n\n9 h: inici de les matinades des del Local Social\n10.30 h: esmorzar al Local Social a càrrec de les famílies de canalla.\n11 h: inici del cercavila cap a la Plaça d’Octavià\n12 h: diada castellera amb Cast. de Sants i Cast. de Badalona\nEn acabar l’actuació\, foto oficial de colla a la Llotgeta del Monestir\n14.30 h: dinar popular\n16 h: concert amb el grup “KM0”
URL:https://www.castellersdesantcugat.cat/event/diada-de-la-colla-2022/
LOCATION:Plaça d’Octavià\, Plaça d'Octavià\, Sant Cugat del Vallès\, Espanya
CATEGORIES:Actuacions
ATTACH;FMTTYPE=image/png:https://www.castellersdesantcugat.cat/wp-content/uploads/2022/09/Diada-2022-Quadrat.png
END:VEVENT
BEGIN:VEVENT
DTSTART;TZID=Europe/Madrid:20221106T113000
DTEND;TZID=Europe/Madrid:20221106T140000
DTSTAMP:20260421T115015
CREATED:20220902T095046Z
LAST-MODIFIED:20221028T081635Z
UID:39633-1667734200-1667743200@www.castellersdesantcugat.cat
SUMMARY:Diada dels Xics de Granollers
DESCRIPTION:Diada dels Xics de Granollers \n10.15 h: sortida dels autocars de la Rambla del Celler \n11.30 h: diada castellera a la Plaça de la Porxada amb els Xics de Granollers\, els Castellers de Berga i els Minyons de Terrassa
URL:https://www.castellersdesantcugat.cat/event/diada-dels-xics-de-granollers-2022/
LOCATION:Plaça de la Porxada\, Plaça de la Porxada\, Granollers\, Espanya
CATEGORIES:Actuacions
END:VEVENT
BEGIN:VEVENT
DTSTART;TZID=Europe/Madrid:20221023T120000
DTEND;TZID=Europe/Madrid:20221023T140000
DTSTAMP:20260421T115015
CREATED:20220902T094054Z
LAST-MODIFIED:20220902T094055Z
UID:39630-1666526400-1666533600@www.castellersdesantcugat.cat
SUMMARY:Festa de Tardor
DESCRIPTION:Diada de la Festa de Tardor. \n11.30 h: sortida en cercavila des del local social (C. Sant Bonaventura) \n12 h: diada castellera a la Plaça d’Octavià amb els Castellers de Sabadell i els Castellers de Vilafranca.
URL:https://www.castellersdesantcugat.cat/event/festa-de-tardor-2022/
LOCATION:Plaça d’Octavià\, Plaça d'Octavià\, Sant Cugat del Vallès\, Espanya
CATEGORIES:Actuacions
END:VEVENT
BEGIN:VEVENT
DTSTART;TZID=Europe/Madrid:20221015T190000
DTEND;TZID=Europe/Madrid:20221015T210000
DTSTAMP:20260421T115015
CREATED:20220902T093746Z
LAST-MODIFIED:20220902T093746Z
UID:39626-1665860400-1665867600@www.castellersdesantcugat.cat
SUMMARY:Capital de la Cultura Catalana
DESCRIPTION:Diada en motiu de la capitalitat de la Cultura Catalana a Igualada. \n16 h: sortida dels autocars de la Rambla del Celler \n18 h: diada castellera amb els Moixiganguers d’Igualada i els Castellers de Vilafranca. \nLloc per confirmar.
URL:https://www.castellersdesantcugat.cat/event/capital-de-la-cultura-catalana-2022/
LOCATION:Per confirmar
CATEGORIES:Actuacions
END:VEVENT
BEGIN:VEVENT
DTSTART;TZID=Europe/Madrid:20221001T150000
DTEND;TZID=Europe/Madrid:20221001T220000
DTSTAMP:20260421T115015
CREATED:20220902T083116Z
LAST-MODIFIED:20220914T144702Z
UID:39616-1664636400-1664661600@www.castellersdesantcugat.cat
SUMMARY:CONCURS DE CASTELLS
DESCRIPTION:L’esdeveniment casteller més gran del món. Les millors colles del món casteller es troben cada dos anys a la Tarraco Arena Plaça en l’actuació castellera més gran del calendari. \nSi no ets casteller/a però ens hi vols acompanyar\, T’HI CONVIDEM! \nOmple el següent formulari i gaudeix d’una jornada castellera de somni.
URL:https://www.castellersdesantcugat.cat/event/concurs-de-castells/
LOCATION:Tarraco Arena Plaça\, Tarraco Arena Plaça\, Tarragona\, Espanya
CATEGORIES:Actuacions
ATTACH;FMTTYPE=image/jpeg:https://www.castellersdesantcugat.cat/wp-content/uploads/2022/09/concurs_gausacs.jpg
END:VEVENT
BEGIN:VEVENT
DTSTART;TZID=Europe/Madrid:20220918T120000
DTEND;TZID=Europe/Madrid:20220918T140000
DTSTAMP:20260421T115015
CREATED:20220902T081703Z
LAST-MODIFIED:20220902T090349Z
UID:39612-1663502400-1663509600@www.castellersdesantcugat.cat
SUMMARY:Festa Major de Valldoreix
DESCRIPTION:Diada de Festa Major de Valldoreix. \n12 h: actuació al Casalet de Valldoreix amb els Xics de Granollers i els Castellers de Cornellà
URL:https://www.castellersdesantcugat.cat/event/festa-major-de-valldoreix-2022/
LOCATION:Casalet de Valldoreix\, Casalet de Valldoreix\, Sant Cugat del Vallès\, Espanya
CATEGORIES:Actuacions
END:VEVENT
BEGIN:VEVENT
DTSTART;TZID=Europe/Madrid:20220911T114500
DTEND;TZID=Europe/Madrid:20220911T140000
DTSTAMP:20260421T115015
CREATED:20220902T063649Z
LAST-MODIFIED:20220908T110714Z
UID:39605-1662896700-1662904800@www.castellersdesantcugat.cat
SUMMARY:Festa Major de Llinars
DESCRIPTION:Diada en motiu de la Festa Major de Llinars del Vallès \n10.30 h: sortida del bus des de la Rambla del Celler \n11.45 h: diada castellera a la Plaça de la Vila de Llinars\, amb els Xics de Granollers i Castellers de Caldes de Montbui.
URL:https://www.castellersdesantcugat.cat/event/festa-major-de-llinars-2022/
LOCATION:Plaça de la Vila\, Llinars del Vallès\, Plaça de la Vila\, Llinars del Vallès\, Espanya
CATEGORIES:Actuacions
END:VEVENT
BEGIN:VEVENT
DTSTART;TZID=Europe/Madrid:20220901T200000
DTEND;TZID=Europe/Madrid:20220901T223000
DTSTAMP:20260421T115015
CREATED:20220901T092243Z
LAST-MODIFIED:20220901T092243Z
UID:39602-1662062400-1662071400@www.castellersdesantcugat.cat
SUMMARY:Primer assaig general 2n tram de temporada
DESCRIPTION:Tornem a l’activitat després de les vacances d’estiu. \nEns veiem a les 20 h a la Sala Canigó!
URL:https://www.castellersdesantcugat.cat/event/primer-assaig-general-2n-tram-de-temporada/
LOCATION:Sala Canigó\, Dos de Maig\, 33\, Sant Cugat del Vallès\, Barcelona\, 08172\, Espanya
CATEGORIES:Assajos
END:VEVENT
BEGIN:VEVENT
DTSTART;TZID=Europe/Madrid:20220716T200000
DTEND;TZID=Europe/Madrid:20220716T220000
DTSTAMP:20260421T115015
CREATED:20220321T170042Z
LAST-MODIFIED:20220704T080328Z
UID:39135-1658001600-1658008800@www.castellersdesantcugat.cat
SUMMARY:Diada de La Llotgeta
DESCRIPTION:20 h: actuació dins la Llotgeta del monestir amb Minyons de Terrassa i Castellers de Sabadell \nEn acabar\, sopar popular per a tothom i concert!
URL:https://www.castellersdesantcugat.cat/event/diada-de-la-llotgeta-2022/
LOCATION:Llotgeta del monestir\, Plaça d'Octavià\, Sant Cugat del Vallès\, Barcelona\, 08172
CATEGORIES:Actuacions
ATTACH;FMTTYPE=image/png:https://www.castellersdesantcugat.cat/wp-content/uploads/2022/03/Llotgeta-Cartell.png
END:VEVENT
BEGIN:VEVENT
DTSTART;TZID=Europe/Madrid:20220703T180000
DTEND;TZID=Europe/Madrid:20220703T200000
DTSTAMP:20260421T115015
CREATED:20220321T165850Z
LAST-MODIFIED:20220321T165850Z
UID:39132-1656871200-1656878400@www.castellersdesantcugat.cat
SUMMARY:Diada de Festa Major
DESCRIPTION:18 h : actuació a la Plaça d’Octavià amb Castellers de Sants i Moixiganguers d’Igualada
URL:https://www.castellersdesantcugat.cat/event/diada-de-festa-major/
LOCATION:Plaça d’Octavià\, Plaça d'Octavià\, Sant Cugat del Vallès\, Espanya
CATEGORIES:Actuacions
END:VEVENT
BEGIN:VEVENT
DTSTART;TZID=Europe/Madrid:20220702T190000
DTEND;TZID=Europe/Madrid:20220702T200000
DTSTAMP:20260421T115015
CREATED:20220321T165537Z
LAST-MODIFIED:20220321T165537Z
UID:39125-1656788400-1656792000@www.castellersdesantcugat.cat
SUMMARY:Vigílies de Festa Major
DESCRIPTION:19 h: actuació a la Rambla del Celler
URL:https://www.castellersdesantcugat.cat/event/vigilies-de-festa-major/
LOCATION:Plaça de la Vila\, Plaça de la Vila\, Sant Cugat del Vallès\, 07172\, Espanya
CATEGORIES:Actuacions
END:VEVENT
BEGIN:VEVENT
DTSTART;TZID=Europe/Madrid:20220629T170000
DTEND;TZID=Europe/Madrid:20220629T200000
DTSTAMP:20260421T115015
CREATED:20220620T095313Z
LAST-MODIFIED:20220620T095313Z
UID:39530-1656522000-1656532800@www.castellersdesantcugat.cat
SUMMARY:Seguici de Sant Pere
DESCRIPTION:Seguici de Sant Pere. \nSortida de la Plaça de la Vila i arribada a la Llotgeta del Monestir. Després de la missa\, Esclat de Festa\, i tot seguit\, el Paga-li Joan.
URL:https://www.castellersdesantcugat.cat/event/seguici-de-sant-pere-2022/
LOCATION:Plaça de la Vila\, Plaça de la Vila\, Sant Cugat del Vallès\, 07172\, Espanya
END:VEVENT
BEGIN:VEVENT
DTSTART;TZID=Europe/Madrid:20220629T010000
DTEND;TZID=Europe/Madrid:20220629T020000
DTSTAMP:20260421T115015
CREATED:20220620T095105Z
LAST-MODIFIED:20220620T095345Z
UID:39527-1656464400-1656468000@www.castellersdesantcugat.cat
SUMMARY:Seguici nocturn
DESCRIPTION:Seguici nocturn. Totes les entitats de cultura popular i tradicional farem una mostra de la nostra activitat a la Plaça d’Octavià.
URL:https://www.castellersdesantcugat.cat/event/seguici-nocturn-2022/
LOCATION:Plaça d’Octavià\, Plaça d'Octavià\, Sant Cugat del Vallès\, Espanya
END:VEVENT
BEGIN:VEVENT
DTSTART;TZID=Europe/Madrid:20220628T190000
DTEND;TZID=Europe/Madrid:20220628T203000
DTSTAMP:20260421T115015
CREATED:20220620T094042Z
LAST-MODIFIED:20220620T094042Z
UID:39523-1656442800-1656448200@www.castellersdesantcugat.cat
SUMMARY:Seguici d'inici de Festa Major
DESCRIPTION:Seguici d’inici de Festa Major \nSortida a les 19 h de la Carretera de Cerdanyola\, i arribada a la Plaça de la Vila\, on es farà el Pregó i l’Esclat de Festa. \nDesprés\, assaig obert a la Sala Canigó.
URL:https://www.castellersdesantcugat.cat/event/seguici-dinici-de-festa-major-2022/
LOCATION:Carretera de Cerdanyola\, Carretera de Cerdanyola\, Sant Cugat del Vallès\, Catalunya\, Espanya
CATEGORIES:Actuacions
END:VEVENT
BEGIN:VEVENT
DTSTART;TZID=Europe/Madrid:20220619T120000
DTEND;TZID=Europe/Madrid:20220619T130000
DTSTAMP:20260421T115015
CREATED:20220321T165153Z
LAST-MODIFIED:20220321T165153Z
UID:39120-1655640000-1655643600@www.castellersdesantcugat.cat
SUMMARY:Diada de La Grallada
DESCRIPTION:10.15 h: sortida dels busos de la Rambla del Celler \n12 h: actuació a la Plaça de les Cols de Vilanova amb Bordegassos de Vilanova
URL:https://www.castellersdesantcugat.cat/event/diada-de-la-grallada/
LOCATION:Plaça de les Cols\, Plaça de les Cols\, Vilanova i la Geltrú\, Espanya
CATEGORIES:Actuacions
END:VEVENT
BEGIN:VEVENT
DTSTART;TZID=Europe/Madrid:20220612T120000
DTEND;TZID=Europe/Madrid:20220612T140000
DTSTAMP:20260421T115015
CREATED:20220321T164943Z
LAST-MODIFIED:20220321T164943Z
UID:39116-1655035200-1655042400@www.castellersdesantcugat.cat
SUMMARY:Aniversari Castellers de Sabadell
DESCRIPTION:11 h: sortida des de l’estació d’FGC de Sant Cugat \n12 h: actuació a la Plaça Sant Roc amb Castellers de Sabadell\, Castellers de Terrassa i Castellers de Sant Pere i Sant Pau
URL:https://www.castellersdesantcugat.cat/event/aniversari-castellers-de-sabadell/
LOCATION:Plaça San Roc\, Plaça Sant Roc\, Sabadell\, Espanya
CATEGORIES:Actuacions
END:VEVENT
BEGIN:VEVENT
DTSTART;TZID=Europe/Madrid:20220528T180000
DTEND;TZID=Europe/Madrid:20220528T193000
DTSTAMP:20260421T115015
CREATED:20220321T163449Z
LAST-MODIFIED:20220321T163449Z
UID:39111-1653760800-1653766200@www.castellersdesantcugat.cat
SUMMARY:Firaentitats a Sants
DESCRIPTION:10.30 h: sortida des de l’estació d’FGC de Sant Cugat \n18 h: actuació davant de l’Ajuntament de Sants (BCN) amb Castellers de Sants i Castellers del Poble Sec
URL:https://www.castellersdesantcugat.cat/event/firaentitats-a-sants/
LOCATION:Ajuntament de Sants\, Carrer de la Creu Coberta\, 104\, Barcelona\, 08014\, Espanya
CATEGORIES:Actuacions
END:VEVENT
BEGIN:VEVENT
DTSTART;TZID=Europe/Madrid:20220515T120000
DTEND;TZID=Europe/Madrid:20220515T140000
DTSTAMP:20260421T115015
CREATED:20220316T114918Z
LAST-MODIFIED:20220505T152731Z
UID:39084-1652616000-1652623200@www.castellersdesantcugat.cat
SUMMARY:Diada de Sant Ponç
DESCRIPTION:Diada de Sant Ponç 2022 \n\n9 h: matinades amb els Grabals. Recorregut pel centre del poble\n11.15 h: trobada al local social (C/ Sant Bonaventura\, 17)\n12 h: actuació castellera a la Plaça d’Octavià\, amb Bordegassos de Vilanova i Moixiganguers d’Igualada\n\nEn acabar l’actuació\, dinar de tuper i música PD al Parc de Ramon Barnils
URL:https://www.castellersdesantcugat.cat/event/actes-de-la-diada-de-sant-ponc-2022/
LOCATION:Plaça d’Octavià\, Plaça d'Octavià\, Sant Cugat del Vallès\, Espanya
CATEGORIES:Actuacions
END:VEVENT
BEGIN:VEVENT
DTSTART;TZID=Europe/Madrid:20220514T180000
DTEND;TZID=Europe/Madrid:20220514T190000
DTSTAMP:20260421T115015
CREATED:20220316T114718Z
LAST-MODIFIED:20220426T105055Z
UID:39080-1652551200-1652554800@www.castellersdesantcugat.cat
SUMMARY:Vigílies de Sant Ponç
DESCRIPTION:Totes les activitats es duran a terme a la Plaça de l’1 d’Octubre \n\n16.30 h: concert infantil amb “CORRANDA D’ANIMACIÓ“\n18 h: pilar caminat i actuació de Vigílies de Sant Ponç\n20 h: sopar popular (5€) i concerts de l’EMTSC i “ELECTROGRALLA”\n\nEls tiquets del sopar\, es podran adquirir durant tota la tarda a la mateixa Plaça de l’1 d’Octubre
URL:https://www.castellersdesantcugat.cat/event/activitats-de-vigilies-de-sant-ponc-2022/
LOCATION:Plaça de l’1 d’Octubre\, Plaça del'1 d'Octubre\, Sant Cugat del Vallès\, Espanya
CATEGORIES:Actuacions
END:VEVENT
BEGIN:VEVENT
DTSTART;TZID=Europe/Madrid:20220513T200000
DTEND;TZID=Europe/Madrid:20220513T233000
DTSTAMP:20260421T115015
CREATED:20220426T105505Z
LAST-MODIFIED:20220426T105505Z
UID:39384-1652472000-1652484600@www.castellersdesantcugat.cat
SUMMARY:Assaig especial de Sant Ponç
DESCRIPTION:Assaig especial de SANT PONÇ \n\n20 h: assaig a la Sala Canigó\n\nEn acabar l’assaig\, entrega d’escuts als novells i #PIZZENDRES
URL:https://www.castellersdesantcugat.cat/event/assaig-especial-de-sant-ponc-2022/
LOCATION:Sala Canigó\, Dos de Maig\, 33\, Sant Cugat del Vallès\, Barcelona\, 08172\, Espanya
CATEGORIES:Assajos
END:VEVENT
BEGIN:VEVENT
DTSTART;VALUE=DATE:20220507
DTEND;VALUE=DATE:20220508
DTSTAMP:20260421T115015
CREATED:20220407T095734Z
LAST-MODIFIED:20220426T094431Z
UID:39326-1651881600-1651967999@www.castellersdesantcugat.cat
SUMMARY:Torneig de Volei Interentitats
DESCRIPTION:Els Castellers de Sant Cugat convidem a totes les entitats del poble a participar del I Torneig de Volei Internentitats. \nActe enmarcat dins dels actes de la Quinzena Verda 2022. \n10 h: convocatòria \n10.30 h: primer partit \n17.30 h: últim partit \n17.30 h – 21 h: barra i música PD \nInscripcions aquí: https://forms.gle/S3XMBompaftNCn5a9
URL:https://www.castellersdesantcugat.cat/event/torneig-de-volei-interentitats/
LOCATION:Parc de Can Vernet\, Abat armengol 28\, Sant Cugat\, 08173\, Espanya
CATEGORIES:Activitats socials
END:VEVENT
BEGIN:VEVENT
DTSTART;TZID=Europe/Madrid:20220506T200000
DTEND;TZID=Europe/Madrid:20220506T233000
DTSTAMP:20260421T115015
CREATED:20220426T104814Z
LAST-MODIFIED:20220426T104945Z
UID:39376-1651867200-1651879800@www.castellersdesantcugat.cat
SUMMARY:Assaig OBERT de Sant Ponç
DESCRIPTION:Assaig especial de SANT PONÇ \n\n20 h: assaig a la Sala Canigó\n21.30 h: trasllat de l’assaig a la Plaça de la Vila\n\nEn acabar\, sopar d’entrepans\, beguda i concert de PASCUAL I ELS DESNATATS
URL:https://www.castellersdesantcugat.cat/event/assaig-especial-obert-de-sant-ponc-2022/
LOCATION:Plaça de la Vila\, Plaça de la Vila\, Sant Cugat del Vallès\, 07172\, Espanya
CATEGORIES:Assajos
END:VEVENT
BEGIN:VEVENT
DTSTART;TZID=Europe/Madrid:20220501T120000
DTEND;TZID=Europe/Madrid:20220501T133000
DTSTAMP:20260421T115015
CREATED:20220316T114533Z
LAST-MODIFIED:20220316T114533Z
UID:39076-1651406400-1651411800@www.castellersdesantcugat.cat
SUMMARY:Diada del Roser a Cerdanyola
DESCRIPTION:11.15 h: sortida dels busos de la Rambla del Celler \n12 h: actuació a Cerdanyola (lloc per confirmar)
URL:https://www.castellersdesantcugat.cat/event/diada-del-roser-a-cerdanyola/
CATEGORIES:Actuacions
END:VEVENT
BEGIN:VEVENT
DTSTART;TZID=Europe/Madrid:20220429T200000
DTEND;TZID=Europe/Madrid:20220429T230000
DTSTAMP:20260421T115015
CREATED:20220401T114352Z
LAST-MODIFIED:20220426T105057Z
UID:39285-1651262400-1651273200@www.castellersdesantcugat.cat
SUMMARY:Assaig especial d'inici de la QUINZENA VERDA
DESCRIPTION:20 h: assaig a la Sala Canigó \nAssaig especial per donar tret d’inici als actes de la QUINZENA VERDA 2022.
URL:https://www.castellersdesantcugat.cat/event/assaig-especial-dinici-de-la-quinzena-verda-2022/
LOCATION:Sala Canigó\, Dos de Maig\, 33\, Sant Cugat del Vallès\, Barcelona\, 08172\, Espanya
CATEGORIES:Assajos
END:VEVENT
BEGIN:VEVENT
DTSTART;TZID=Europe/Madrid:20220429T193000
DTEND;TZID=Europe/Madrid:20220515T140000
DTSTAMP:20260421T115015
CREATED:20220407T092142Z
LAST-MODIFIED:20220426T105836Z
UID:39322-1651260600-1652623200@www.castellersdesantcugat.cat
SUMMARY:Quinzena Verda 2022
DESCRIPTION:Quinzena Verda dels Castellers de Sant Cugat \nDurant dues setmanes\, els Gausacs omplim el poble d’activitats\, que finalitzen amb les actuacions de Sant Ponç\, els dies 14 i 15 de maig. \nAssajos especials\, torneig de volei\, concerts\, activitats infantils\, pilar caminat\, veredicte del Premi Literari\, sopar popular i molt més.
URL:https://www.castellersdesantcugat.cat/event/quinzena-verda-2022/
CATEGORIES:Activitats socials
END:VEVENT
BEGIN:VEVENT
DTSTART;TZID=Europe/Madrid:20220424T120000
DTEND;TZID=Europe/Madrid:20220424T133000
DTSTAMP:20260421T115015
CREATED:20220316T114359Z
LAST-MODIFIED:20220316T114359Z
UID:39071-1650801600-1650807000@www.castellersdesantcugat.cat
SUMMARY:Aniversari Moixiganguers d'Igualada
DESCRIPTION:10.30 h: sortida dels busos de la Rambla del Celler \n12 h: actuació a la Plaça Pius XII d’Igualada
URL:https://www.castellersdesantcugat.cat/event/aniversari-moixiganguers-digualada/
LOCATION:Plaça Pius XII\, Plaça Pius XII\, Igualada\, 08700\, Espanya
CATEGORIES:Actuacions
END:VEVENT
BEGIN:VEVENT
DTSTART;TZID=Europe/Madrid:20220422T200000
DTEND;TZID=Europe/Madrid:20220422T230000
DTSTAMP:20260421T115015
CREATED:20220401T113950Z
LAST-MODIFIED:20220401T114447Z
UID:39281-1650657600-1650668400@www.castellersdesantcugat.cat
SUMMARY:Assaig especial "PORTA UN AMIC"
DESCRIPTION:20 h: assaig a la Sala Canigó \nAssaig especial “PORTA UN AMIC”. Si vens a l’assaig amb un amic o amiga\, tindràs premi! \nA més\, al final de l’assaig\, es farà la presentació dels actes de la QUINZENA VERDA 2022\, i hi haurà beguda per a tothom!
URL:https://www.castellersdesantcugat.cat/event/assaig-especial-porta-un-amic-20220422/
LOCATION:Sala Canigó\, Dos de Maig\, 33\, Sant Cugat del Vallès\, Barcelona\, 08172\, Espanya
CATEGORIES:Assajos
END:VEVENT
BEGIN:VEVENT
DTSTART;TZID=Europe/Madrid:20220410T120000
DTEND;TZID=Europe/Madrid:20220410T133000
DTSTAMP:20260421T115015
CREATED:20220307T150359Z
LAST-MODIFIED:20220307T150359Z
UID:39031-1649592000-1649597400@www.castellersdesantcugat.cat
SUMMARY:Diada de la independència a Gràcia
DESCRIPTION:10.45 h: estació d’FGC de Sant Cugat \n12 h: actuació castellera a la Plaça de la Revolució\, amb Castellers de la Vila de Gràcia
URL:https://www.castellersdesantcugat.cat/event/diada-de-la-independencia-a-gracia/
LOCATION:Plaça de la Revolució\, Plaça de la Revolució\, Barcelona\, 1868\, Espanya
CATEGORIES:Actuacions
END:VEVENT
BEGIN:VEVENT
DTSTART;TZID=Europe/Madrid:20220408T200000
DTEND;TZID=Europe/Madrid:20220408T230000
DTSTAMP:20260421T115015
CREATED:20220401T113622Z
LAST-MODIFIED:20220401T114437Z
UID:39278-1649448000-1649458800@www.castellersdesantcugat.cat
SUMMARY:Assaig Especial #PIZZENDRES
DESCRIPTION:20 h: assaig a la Sala Canigó \nPots reservar la teva pizza del ROEL PIZZA\, i te la portem a La Canigó perquè te la puguis menjar calenta en acabar l’assaig.
URL:https://www.castellersdesantcugat.cat/event/assaig-especial-pizzendres-20220408/
LOCATION:Sala Canigó\, Dos de Maig\, 33\, Sant Cugat del Vallès\, Barcelona\, 08172\, Espanya
CATEGORIES:Assajos
END:VEVENT
END:VCALENDAR